BEGIN:VCALENDAR
VERSION:2.0
PRODID:icalendar-ruby
CALSCALE:GREGORIAN
METHOD:PUBLISH
BEGIN:VEVENT
DTSTAMP:20260424T130741Z
UID:165-88534@riverwoodcf.org
DTSTART:20260505T233000Z
DTEND:20260506T013000Z
CLASS:PUBLIC
CREATED:20260423T091131
DESCRIPTION:
LAST-MODIFIED:20260423T091131
LOCATION:Riverwood Church
SUMMARY:Men's Night
URL;VALUE=URI:https://riverwoodcf.org/events/mens-night--165/2026-05-05
ATTACH;FILENAME=MEN graphic.png;FMTTYPE=image/png:https://dq5pwpg1q8ru0.clo
 udfront.net/2026/04/23/14/11/30/cf5477af-9bd9-49be-92bf-7e0add1d77b3/MEN%2
 0graphic.png
END:VEVENT
END:VCALENDAR
